BEGIN:VCALENDAR
VERSION:2.0
PRODID:-//Villa Maria Academy - ECPv6.15.13.1//NONSGML v1.0//EN
CALSCALE:GREGORIAN
METHOD:PUBLISH
X-WR-CALNAME:Villa Maria Academy
X-ORIGINAL-URL:https://villamaria.org
X-WR-CALDESC:Events for Villa Maria Academy
REFRESH-INTERVAL;VALUE=DURATION:PT1H
X-Robots-Tag:noindex
X-PUBLISHED-TTL:PT1H
BEGIN:VTIMEZONE
TZID:America/New_York
BEGIN:DAYLIGHT
TZOFFSETFROM:-0500
TZOFFSETTO:-0400
TZNAME:EDT
DTSTART:20220313T070000
END:DAYLIGHT
BEGIN:STANDARD
TZOFFSETFROM:-0400
TZOFFSETTO:-0500
TZNAME:EST
DTSTART:20221106T060000
END:STANDARD
BEGIN:DAYLIGHT
TZOFFSETFROM:-0500
TZOFFSETTO:-0400
TZNAME:EDT
DTSTART:20230312T070000
END:DAYLIGHT
BEGIN:STANDARD
TZOFFSETFROM:-0400
TZOFFSETTO:-0500
TZNAME:EST
DTSTART:20231105T060000
END:STANDARD
BEGIN:DAYLIGHT
TZOFFSETFROM:-0500
TZOFFSETTO:-0400
TZNAME:EDT
DTSTART:20240310T070000
END:DAYLIGHT
BEGIN:STANDARD
TZOFFSETFROM:-0400
TZOFFSETTO:-0500
TZNAME:EST
DTSTART:20241103T060000
END:STANDARD
END:VTIMEZONE
BEGIN:VEVENT
DTSTART;VALUE=DATE:20231209
DTEND;VALUE=DATE:20231210
DTSTAMP:20260420T080837
CREATED:20230703T175104Z
LAST-MODIFIED:20230703T175358Z
UID:13896-1702080000-1702166399@villamaria.org
SUMMARY:ELC 3s & PreK Sweets with Santa (Parent Guild Event)
DESCRIPTION:
URL:https://villamaria.org/event/elc-3s-prek-sweets-with-santa-parent-guild-event/
CATEGORIES:Early Learning Center,P.G. Social Calendar,School Calendar
END:VEVENT
BEGIN:VEVENT
DTSTART;VALUE=DATE:20231208
DTEND;VALUE=DATE:20231209
DTSTAMP:20260420T080837
CREATED:20230703T175738Z
LAST-MODIFIED:20230703T175738Z
UID:13897-1701993600-1702079999@villamaria.org
SUMMARY:School Liturgy - Feast of the Immaculate Conception
DESCRIPTION:
URL:https://villamaria.org/event/school-liturgy-feast-of-the-immaculate-conception/
CATEGORIES:Early Learning Center,School Calendar
END:VEVENT
BEGIN:VEVENT
DTSTART;VALUE=DATE:20231204
DTEND;VALUE=DATE:20231205
DTSTAMP:20260420T080837
CREATED:20230703T174756Z
LAST-MODIFIED:20230703T174820Z
UID:13895-1701648000-1701734399@villamaria.org
SUMMARY:Christmas Bazaar (Parent Guild Event)
DESCRIPTION:
URL:https://villamaria.org/event/christmas-bazaar-parent-guild-event/
CATEGORIES:Early Learning Center,P.G. Social Calendar,School Calendar
END:VEVENT
BEGIN:VEVENT
DTSTART;TZID=America/New_York:20231129T180000
DTEND;TZID=America/New_York:20231129T200000
DTSTAMP:20260420T080837
CREATED:20230703T174622Z
LAST-MODIFIED:20230703T174622Z
UID:13894-1701280800-1701288000@villamaria.org
SUMMARY:Open House (Admissions Event)
DESCRIPTION:
URL:https://villamaria.org/event/open-house-admissions-event-4/
CATEGORIES:Admissions Events,Early Learning Center,School Calendar
END:VEVENT
BEGIN:VEVENT
DTSTART;VALUE=DATE:20231122
DTEND;VALUE=DATE:20231125
DTSTAMP:20260420T080837
CREATED:20230703T174452Z
LAST-MODIFIED:20230703T174452Z
UID:13893-1700611200-1700870399@villamaria.org
SUMMARY:Thanksgiving Holiday
DESCRIPTION:
URL:https://villamaria.org/event/thanksgiving-holiday/
CATEGORIES:Early Learning Center,School Calendar
END:VEVENT
BEGIN:VEVENT
DTSTART;TZID=America/New_York:20231121T143000
DTEND;TZID=America/New_York:20231121T150000
DTSTAMP:20260420T080837
CREATED:20231030T180813Z
LAST-MODIFIED:20231030T182640Z
UID:14234-1700577000-1700578800@villamaria.org
SUMMARY:Thanksgiving Prayer Service (2:35pm)
DESCRIPTION:
URL:https://villamaria.org/event/thanksgiving-prayer-service-2/
CATEGORIES:Early Learning Center,School Calendar
END:VEVENT
BEGIN:VEVENT
DTSTART;TZID=America/New_York:20231117T170000
DTEND;TZID=America/New_York:20231117T190000
DTSTAMP:20260420T080837
CREATED:20230703T174013Z
LAST-MODIFIED:20231030T180715Z
UID:13892-1700240400-1700247600@villamaria.org
SUMMARY:Family Bingo Night (Parent Guild Event)
DESCRIPTION:
URL:https://villamaria.org/event/family-bingo-night-parent-guild-event/
CATEGORIES:Early Learning Center,P.G. Social Calendar,School Calendar
END:VEVENT
BEGIN:VEVENT
DTSTART;VALUE=DATE:20231117
DTEND;VALUE=DATE:20231118
DTSTAMP:20260420T080837
CREATED:20230703T173929Z
LAST-MODIFIED:20230703T173929Z
UID:13891-1700179200-1700265599@villamaria.org
SUMMARY:ELC 3s & PreK Grandparents Day
DESCRIPTION:
URL:https://villamaria.org/event/elc-3s-prek-grandparents-day/
CATEGORIES:Early Learning Center,School Calendar
END:VEVENT
BEGIN:VEVENT
DTSTART;TZID=America/New_York:20231116T190000
DTEND;TZID=America/New_York:20231116T190000
DTSTAMP:20260420T080837
CREATED:20231030T174721Z
LAST-MODIFIED:20231030T174721Z
UID:14233-1700161200-1700161200@villamaria.org
SUMMARY:Board of Limited Jurisdiction Meeting
DESCRIPTION:
URL:https://villamaria.org/event/board-of-limited-jurisdiction-meeting/
CATEGORIES:School Calendar
END:VEVENT
BEGIN:VEVENT
DTSTART;VALUE=DATE:20231116
DTEND;VALUE=DATE:20231117
DTSTAMP:20260420T080837
CREATED:20230703T173833Z
LAST-MODIFIED:20230703T173833Z
UID:13890-1700092800-1700179199@villamaria.org
SUMMARY:Sacrament of Reconciliation (Grades 3-8)
DESCRIPTION:
URL:https://villamaria.org/event/sacrament-of-reconciliation-grades-3-8-2/
CATEGORIES:School Calendar
END:VEVENT
BEGIN:VEVENT
DTSTART;VALUE=DATE:20231115
DTEND;VALUE=DATE:20231116
DTSTAMP:20260420T080837
CREATED:20231030T174556Z
LAST-MODIFIED:20231030T174556Z
UID:14232-1700006400-1700092799@villamaria.org
SUMMARY:Sacramental Meeting (Grade 2 Parents)
DESCRIPTION:
URL:https://villamaria.org/event/sacramental-meeting-grade-2-parents/
CATEGORIES:School Calendar
END:VEVENT
BEGIN:VEVENT
DTSTART;TZID=America/New_York:20231113T100000
DTEND;TZID=America/New_York:20231113T110000
DTSTAMP:20260420T080837
CREATED:20231030T174222Z
LAST-MODIFIED:20231030T174237Z
UID:14231-1699869600-1699873200@villamaria.org
SUMMARY:Admissions Event - Makin' Music at Villa
DESCRIPTION:
URL:https://villamaria.org/event/makin-music-at-villa-4/
CATEGORIES:Admissions Events,Early Learning Center,School Calendar
END:VEVENT
BEGIN:VEVENT
DTSTART;VALUE=DATE:20231112
DTEND;VALUE=DATE:20231113
DTSTAMP:20260420T080837
CREATED:20231030T173724Z
LAST-MODIFIED:20231030T174035Z
UID:14229-1699747200-1699833599@villamaria.org
SUMMARY:Mother-Daughter Brunch (Grade 8)
DESCRIPTION:
URL:https://villamaria.org/event/mother-daughter-brunch-grade-8-offsite/
CATEGORIES:School Calendar
END:VEVENT
BEGIN:VEVENT
DTSTART;TZID=America/New_York:20231110T143000
DTEND;TZID=America/New_York:20231110T150000
DTSTAMP:20260420T080837
CREATED:20230703T173611Z
LAST-MODIFIED:20231030T183237Z
UID:13889-1699626600-1699628400@villamaria.org
SUMMARY:Founder's Day - Prayer Service (2:35pm)
DESCRIPTION:
URL:https://villamaria.org/event/founders-day-prayer-service/
CATEGORIES:Early Learning Center,School Calendar
END:VEVENT
BEGIN:VEVENT
DTSTART;TZID=America/New_York:20231108T190000
DTEND;TZID=America/New_York:20231108T200000
DTSTAMP:20260420T080837
CREATED:20231030T173618Z
LAST-MODIFIED:20231030T173618Z
UID:14228-1699470000-1699473600@villamaria.org
SUMMARY:Parent Guild Meeting
DESCRIPTION:
URL:https://villamaria.org/event/parent-guild-meeting/
CATEGORIES:P.G. Social Calendar,School Calendar
END:VEVENT
BEGIN:VEVENT
DTSTART;TZID=America/New_York:20231108T133000
DTEND;TZID=America/New_York:20231108T140000
DTSTAMP:20260420T080837
CREATED:20231030T173528Z
LAST-MODIFIED:20231030T173528Z
UID:14227-1699450200-1699452000@villamaria.org
SUMMARY:Saints Program (Grade 1)
DESCRIPTION:
URL:https://villamaria.org/event/saints-program-grade-1/
CATEGORIES:School Calendar
END:VEVENT
BEGIN:VEVENT
DTSTART;TZID=America/New_York:20231105T110000
DTEND;TZID=America/New_York:20231105T123000
DTSTAMP:20260420T080837
CREATED:20230703T173509Z
LAST-MODIFIED:20230703T173509Z
UID:13888-1699182000-1699187400@villamaria.org
SUMMARY:Open House (Admissions Event)
DESCRIPTION:
URL:https://villamaria.org/event/open-house-admissions-event-3/
CATEGORIES:Admissions Events,School Calendar
END:VEVENT
BEGIN:VEVENT
DTSTART;VALUE=DATE:20231102
DTEND;VALUE=DATE:20231103
DTSTAMP:20260420T080837
CREATED:20230824T164304Z
LAST-MODIFIED:20231030T172906Z
UID:13996-1698883200-1698969599@villamaria.org
SUMMARY:Mission Day
DESCRIPTION:
URL:https://villamaria.org/event/mission-day-2/
CATEGORIES:School Calendar
END:VEVENT
BEGIN:VEVENT
DTSTART;TZID=America/New_York:20231101T090000
DTEND;TZID=America/New_York:20231101T100000
DTSTAMP:20260420T080837
CREATED:20230703T173335Z
LAST-MODIFIED:20231030T181201Z
UID:13887-1698829200-1698832800@villamaria.org
SUMMARY:School Liturgy - Feast of All Saints (9:10 AM)
DESCRIPTION:
URL:https://villamaria.org/event/school-liturgy-feast-of-all-saints/
CATEGORIES:Early Learning Center,School Calendar
END:VEVENT
BEGIN:VEVENT
DTSTART;TZID=America/New_York:20231031T084500
DTEND;TZID=America/New_York:20231031T094500
DTSTAMP:20260420T080837
CREATED:20230703T173210Z
LAST-MODIFIED:20230703T173210Z
UID:13886-1698741900-1698745500@villamaria.org
SUMMARY:ELC 3s & PreK Halloween Parade
DESCRIPTION:
URL:https://villamaria.org/event/elc-3s-prek-halloween-parade/
CATEGORIES:Early Learning Center,School Calendar
END:VEVENT
BEGIN:VEVENT
DTSTART;VALUE=DATE:20231027
DTEND;VALUE=DATE:20231028
DTSTAMP:20260420T080837
CREATED:20230703T173050Z
LAST-MODIFIED:20230703T173050Z
UID:13885-1698364800-1698451199@villamaria.org
SUMMARY:Parent-Teacher Conferences - NO SCHOOL for Students
DESCRIPTION:
URL:https://villamaria.org/event/parent-teacher-conferences-no-school-for-students-2/
CATEGORIES:Early Learning Center,School Calendar
END:VEVENT
BEGIN:VEVENT
DTSTART;TZID=America/New_York:20231026T080000
DTEND;TZID=America/New_York:20231026T170000
DTSTAMP:20260420T080837
CREATED:20230703T172830Z
LAST-MODIFIED:20230703T172830Z
UID:13884-1698307200-1698339600@villamaria.org
SUMMARY:Parent-Teacher Conferences (PM)
DESCRIPTION:
URL:https://villamaria.org/event/parent-teacher-conferences-pm/
CATEGORIES:School Calendar
END:VEVENT
BEGIN:VEVENT
DTSTART;VALUE=DATE:20231024
DTEND;VALUE=DATE:20231025
DTSTAMP:20260420T080837
CREATED:20230703T172715Z
LAST-MODIFIED:20230703T172715Z
UID:13883-1698105600-1698191999@villamaria.org
SUMMARY:Trunk or Treat (Parent Guild Event)
DESCRIPTION:
URL:https://villamaria.org/event/trunk-or-treat-parent-guild-event/
CATEGORIES:Early Learning Center,P.G. Social Calendar,School Calendar
END:VEVENT
BEGIN:VEVENT
DTSTART;VALUE=DATE:20231023
DTEND;VALUE=DATE:20231028
DTSTAMP:20260420T080837
CREATED:20230824T164142Z
LAST-MODIFIED:20230824T164142Z
UID:13995-1698019200-1698451199@villamaria.org
SUMMARY:Scholastic Fall Book Fair - Gym
DESCRIPTION:
URL:https://villamaria.org/event/scholastic-fall-book-fair-gym/
CATEGORIES:School Calendar
END:VEVENT
BEGIN:VEVENT
DTSTART;TZID=America/New_York:20231022T110000
DTEND;TZID=America/New_York:20231022T123000
DTSTAMP:20260420T080837
CREATED:20230703T172506Z
LAST-MODIFIED:20230703T172542Z
UID:13882-1697972400-1697977800@villamaria.org
SUMMARY:Open House (Admissions Event)
DESCRIPTION:
URL:https://villamaria.org/event/open-house-admissions-event-2/
CATEGORIES:Admissions Events,School Calendar
END:VEVENT
BEGIN:VEVENT
DTSTART;VALUE=DATE:20231017
DTEND;VALUE=DATE:20231018
DTSTAMP:20260420T080837
CREATED:20230703T172102Z
LAST-MODIFIED:20230703T172316Z
UID:13881-1697500800-1697587199@villamaria.org
SUMMARY:School Pictures
DESCRIPTION:
URL:https://villamaria.org/event/school-pictures/
CATEGORIES:Early Learning Center,School Calendar
END:VEVENT
BEGIN:VEVENT
DTSTART;TZID=America/New_York:20231016T100000
DTEND;TZID=America/New_York:20231016T110000
DTSTAMP:20260420T080837
CREATED:20231030T174134Z
LAST-MODIFIED:20231030T174134Z
UID:14230-1697450400-1697454000@villamaria.org
SUMMARY:Makin' Music at Villa
DESCRIPTION:
URL:https://villamaria.org/event/makin-music-at-villa-3/
CATEGORIES:Admissions Events,Early Learning Center,School Calendar
END:VEVENT
BEGIN:VEVENT
DTSTART;VALUE=DATE:20231016
DTEND;VALUE=DATE:20231017
DTSTAMP:20260420T080837
CREATED:20230703T171857Z
LAST-MODIFIED:20230703T171918Z
UID:13880-1697414400-1697500799@villamaria.org
SUMMARY:Winter Uniforms
DESCRIPTION:
URL:https://villamaria.org/event/winter-uniforms/
CATEGORIES:School Calendar
END:VEVENT
BEGIN:VEVENT
DTSTART;TZID=America/New_York:20231012T183000
DTEND;TZID=America/New_York:20231012T203000
DTSTAMP:20260420T080837
CREATED:20230703T171605Z
LAST-MODIFIED:20230703T171605Z
UID:13879-1697135400-1697142600@villamaria.org
SUMMARY:Open House (Admissions Event)
DESCRIPTION:
URL:https://villamaria.org/event/open-house-admissions-event/
CATEGORIES:Admissions Events,Early Learning Center,School Calendar
END:VEVENT
BEGIN:VEVENT
DTSTART;VALUE=DATE:20231009
DTEND;VALUE=DATE:20231010
DTSTAMP:20260420T080837
CREATED:20230703T171342Z
LAST-MODIFIED:20230703T171400Z
UID:13878-1696809600-1696895999@villamaria.org
SUMMARY:Faculty Retreat Day - NO SCHOOL for Students
DESCRIPTION:
URL:https://villamaria.org/event/faculty-retreat-day-no-school-for-students/
CATEGORIES:Early Learning Center,School Calendar
END:VEVENT
END:VCALENDAR