BEGIN:VCALENDAR
VERSION:2.0
PRODID:-//Villa Maria Academy - ECPv6.15.13.1//NONSGML v1.0//EN
CALSCALE:GREGORIAN
METHOD:PUBLISH
X-ORIGINAL-URL:https://villamaria.org
X-WR-CALDESC:Events for Villa Maria Academy
REFRESH-INTERVAL;VALUE=DURATION:PT1H
X-Robots-Tag:noindex
X-PUBLISHED-TTL:PT1H
BEGIN:VTIMEZONE
TZID:America/New_York
BEGIN:DAYLIGHT
TZOFFSETFROM:-0500
TZOFFSETTO:-0400
TZNAME:EDT
DTSTART:20240310T070000
END:DAYLIGHT
BEGIN:STANDARD
TZOFFSETFROM:-0400
TZOFFSETTO:-0500
TZNAME:EST
DTSTART:20241103T060000
END:STANDARD
BEGIN:DAYLIGHT
TZOFFSETFROM:-0500
TZOFFSETTO:-0400
TZNAME:EDT
DTSTART:20250309T070000
END:DAYLIGHT
BEGIN:STANDARD
TZOFFSETFROM:-0400
TZOFFSETTO:-0500
TZNAME:EST
DTSTART:20251102T060000
END:STANDARD
BEGIN:DAYLIGHT
TZOFFSETFROM:-0500
TZOFFSETTO:-0400
TZNAME:EDT
DTSTART:20260308T070000
END:DAYLIGHT
BEGIN:STANDARD
TZOFFSETFROM:-0400
TZOFFSETTO:-0500
TZNAME:EST
DTSTART:20261101T060000
END:STANDARD
BEGIN:DAYLIGHT
TZOFFSETFROM:-0500
TZOFFSETTO:-0400
TZNAME:EDT
DTSTART:20270314T070000
END:DAYLIGHT
BEGIN:STANDARD
TZOFFSETFROM:-0400
TZOFFSETTO:-0500
TZNAME:EST
DTSTART:20271107T060000
END:STANDARD
END:VTIMEZONE
BEGIN:VEVENT
DTSTART;VALUE=DATE:20251031
DTEND;VALUE=DATE:20251101
DTSTAMP:20260420T094944
CREATED:20250618T181729Z
LAST-MODIFIED:20250618T181729Z
UID:15555-1761868800-1761955199@villamaria.org
SUMMARY:ELC/PreK Halloween Parade – 9:00 AM
DESCRIPTION:
URL:https://villamaria.org/event/elc-prek-halloween-parade-900-am/
CATEGORIES:Early Learning Center,School Calendar
END:VEVENT
BEGIN:VEVENT
DTSTART;VALUE=DATE:20251106
DTEND;VALUE=DATE:20251107
DTSTAMP:20260420T094944
CREATED:20250618T181850Z
LAST-MODIFIED:20250618T182036Z
UID:15556-1762387200-1762473599@villamaria.org
SUMMARY:Saints Show (Grade 1) - 1:30 PM - Chapel
DESCRIPTION:
URL:https://villamaria.org/event/saints-show-grade-1-130-pm-chapel/
CATEGORIES:School Calendar
END:VEVENT
BEGIN:VEVENT
DTSTART;VALUE=DATE:20251107
DTEND;VALUE=DATE:20251108
DTSTAMP:20260420T094944
CREATED:20250618T182125Z
LAST-MODIFIED:20250618T182125Z
UID:15557-1762473600-1762559999@villamaria.org
SUMMARY:School Liturgy - 9:15 AM
DESCRIPTION:
URL:https://villamaria.org/event/school-liturgy-915-am-6/
CATEGORIES:Early Learning Center,School Calendar
END:VEVENT
BEGIN:VEVENT
DTSTART;VALUE=DATE:20251110
DTEND;VALUE=DATE:20251111
DTSTAMP:20260420T094944
CREATED:20250618T182203Z
LAST-MODIFIED:20250618T182203Z
UID:15558-1762732800-1762819199@villamaria.org
SUMMARY:Founder’s Day Prayer Service - 9:15 AM
DESCRIPTION:
URL:https://villamaria.org/event/founders-day-prayer-service-915-am/
CATEGORIES:Early Learning Center,School Calendar
END:VEVENT
BEGIN:VEVENT
DTSTART;VALUE=DATE:20251112
DTEND;VALUE=DATE:20251113
DTSTAMP:20260420T094944
CREATED:20250618T182324Z
LAST-MODIFIED:20250618T182345Z
UID:15559-1762905600-1762991999@villamaria.org
SUMMARY:Sacramental Meeting for Parents (Grade 2) - 7:00 PM
DESCRIPTION:
URL:https://villamaria.org/event/sacramental-meeting-for-parents-grade-2-700-pm/
CATEGORIES:School Calendar
END:VEVENT
BEGIN:VEVENT
DTSTART;VALUE=DATE:20251112
DTEND;VALUE=DATE:20251113
DTSTAMP:20260420T094944
CREATED:20250618T182420Z
LAST-MODIFIED:20250618T183241Z
UID:15560-1762905600-1762991999@villamaria.org
SUMMARY:Admissions Event – Open House 9:00 -10:30 AM
DESCRIPTION:
URL:https://villamaria.org/event/admissions-event-open-house-900-1030-am-2/
CATEGORIES:Admissions Events,Early Learning Center,School Calendar
END:VEVENT
BEGIN:VEVENT
DTSTART;VALUE=DATE:20251113
DTEND;VALUE=DATE:20251114
DTSTAMP:20260420T094944
CREATED:20250618T183354Z
LAST-MODIFIED:20250618T183354Z
UID:15561-1762992000-1763078399@villamaria.org
SUMMARY:Sacrament of Reconciliation (Grades 3 to 8) - 1:30 PM
DESCRIPTION:
URL:https://villamaria.org/event/sacrament-of-reconciliation-grades-3-to-8-130-pm/
CATEGORIES:School Calendar
END:VEVENT
BEGIN:VEVENT
DTSTART;VALUE=DATE:20251114
DTEND;VALUE=DATE:20251115
DTSTAMP:20260420T094944
CREATED:20250618T183540Z
LAST-MODIFIED:20250618T183540Z
UID:15562-1763078400-1763164799@villamaria.org
SUMMARY:ELC/PreK Grandparents Day
DESCRIPTION:
URL:https://villamaria.org/event/elc-prek-grandparents-day/
CATEGORIES:Early Learning Center,School Calendar
END:VEVENT
BEGIN:VEVENT
DTSTART;VALUE=DATE:20251120
DTEND;VALUE=DATE:20251121
DTSTAMP:20260420T094944
CREATED:20250618T183653Z
LAST-MODIFIED:20250618T183653Z
UID:15563-1763596800-1763683199@villamaria.org
SUMMARY:Board of Limited Jurisdiction Meeting 7:00 PM
DESCRIPTION:
URL:https://villamaria.org/event/board-of-limited-jurisdiction-meeting-700-pm/
CATEGORIES:School Calendar
END:VEVENT
BEGIN:VEVENT
DTSTART;VALUE=DATE:20251121
DTEND;VALUE=DATE:20251122
DTSTAMP:20260420T094944
CREATED:20250618T183758Z
LAST-MODIFIED:20250618T183758Z
UID:15564-1763683200-1763769599@villamaria.org
SUMMARY:End of Trimester 1
DESCRIPTION:
URL:https://villamaria.org/event/end-of-trimester-1-2/
CATEGORIES:School Calendar
END:VEVENT
BEGIN:VEVENT
DTSTART;VALUE=DATE:20251125
DTEND;VALUE=DATE:20251126
DTSTAMP:20260420T094944
CREATED:20250618T183906Z
LAST-MODIFIED:20250618T184005Z
UID:15565-1764028800-1764115199@villamaria.org
SUMMARY:ELC/PreK Noon Dismissal – Teacher Collaboration
DESCRIPTION:
URL:https://villamaria.org/event/elc-prek-noon-dismissal-teacher-collaboration/
CATEGORIES:Early Learning Center,School Calendar
END:VEVENT
BEGIN:VEVENT
DTSTART;VALUE=DATE:20251125
DTEND;VALUE=DATE:20251126
DTSTAMP:20260420T094944
CREATED:20250618T184113Z
LAST-MODIFIED:20250618T184113Z
UID:15566-1764028800-1764115199@villamaria.org
SUMMARY:Parent Guild Event: Advent Wreath Making Workshop
DESCRIPTION:
URL:https://villamaria.org/event/parent-guild-event-advent-wreath-making-workshop/
CATEGORIES:Early Learning Center,P.G. Social Calendar,School Calendar
END:VEVENT
BEGIN:VEVENT
DTSTART;VALUE=DATE:20251125
DTEND;VALUE=DATE:20251126
DTSTAMP:20260420T094944
CREATED:20250618T184202Z
LAST-MODIFIED:20250618T184342Z
UID:15567-1764028800-1764115199@villamaria.org
SUMMARY:Thanksgiving Prayer Service (Grades K-8) - 2:30 PM
DESCRIPTION:
URL:https://villamaria.org/event/thanksgiving-prayer-service-grades-k-8-230-pm/
CATEGORIES:Early Learning Center,School Calendar
END:VEVENT
BEGIN:VEVENT
DTSTART;VALUE=DATE:20251126
DTEND;VALUE=DATE:20251129
DTSTAMP:20260420T094944
CREATED:20250618T184421Z
LAST-MODIFIED:20250618T184421Z
UID:15568-1764115200-1764374399@villamaria.org
SUMMARY:Thanksgiving Holidays
DESCRIPTION:
URL:https://villamaria.org/event/thanksgiving-holidays-2/
CATEGORIES:Early Learning Center,School Calendar
END:VEVENT
BEGIN:VEVENT
DTSTART;VALUE=DATE:20251205
DTEND;VALUE=DATE:20251206
DTSTAMP:20260420T094944
CREATED:20250618T184458Z
LAST-MODIFIED:20250618T184458Z
UID:15569-1764892800-1764979199@villamaria.org
SUMMARY:Parent Guild Event – Christmas Bazaar – GYM
DESCRIPTION:
URL:https://villamaria.org/event/parent-guild-event-christmas-bazaar-gym-2/
CATEGORIES:Early Learning Center,P.G. Social Calendar,School Calendar
END:VEVENT
BEGIN:VEVENT
DTSTART;VALUE=DATE:20251206
DTEND;VALUE=DATE:20251207
DTSTAMP:20260420T094944
CREATED:20250618T184536Z
LAST-MODIFIED:20250618T184536Z
UID:15570-1764979200-1765065599@villamaria.org
SUMMARY:Parent Guild Event: Sweets with Santa (ELC/PreK families) - GYM
DESCRIPTION:
URL:https://villamaria.org/event/parent-guild-event-sweets-with-santa-elc-prek-families-gym-2/
CATEGORIES:Early Learning Center,P.G. Social Calendar,School Calendar
END:VEVENT
BEGIN:VEVENT
DTSTART;VALUE=DATE:20251208
DTEND;VALUE=DATE:20251209
DTSTAMP:20260420T094944
CREATED:20250618T184631Z
LAST-MODIFIED:20250618T184647Z
UID:15571-1765152000-1765238399@villamaria.org
SUMMARY:School Liturgy 9:15 AM - Immaculate Conception
DESCRIPTION:
URL:https://villamaria.org/event/school-liturgy-915-am-immaculate-conception/
CATEGORIES:Early Learning Center,School Calendar
END:VEVENT
BEGIN:VEVENT
DTSTART;VALUE=DATE:20251215
DTEND;VALUE=DATE:20251216
DTSTAMP:20260420T094944
CREATED:20250618T184809Z
LAST-MODIFIED:20250618T184809Z
UID:15572-1765756800-1765843199@villamaria.org
SUMMARY:Admissions Event: Makin’ Music at Villa – 10:00 AM - GYM
DESCRIPTION:
URL:https://villamaria.org/event/admissions-event-makin-music-at-villa-1000-am-gym/
CATEGORIES:Admissions Events,Early Learning Center,School Calendar
END:VEVENT
BEGIN:VEVENT
DTSTART;VALUE=DATE:20251218
DTEND;VALUE=DATE:20251219
DTSTAMP:20260420T094944
CREATED:20250618T185213Z
LAST-MODIFIED:20250618T185222Z
UID:15573-1766016000-1766102399@villamaria.org
SUMMARY:Christmas Pageant - 1:30 PM and 7:00 PM - Chapel
DESCRIPTION:
URL:https://villamaria.org/event/christmas-pageant-130-pm-and-700-pm-chapel/
CATEGORIES:School Calendar
END:VEVENT
BEGIN:VEVENT
DTSTART;VALUE=DATE:20251219
DTEND;VALUE=DATE:20251220
DTSTAMP:20260420T094944
CREATED:20250618T185253Z
LAST-MODIFIED:20250618T185253Z
UID:15575-1766102400-1766188799@villamaria.org
SUMMARY:ELC/PreK Noon Dismissal
DESCRIPTION:
URL:https://villamaria.org/event/elc-prek-noon-dismissal/
CATEGORIES:Early Learning Center,School Calendar
END:VEVENT
BEGIN:VEVENT
DTSTART;VALUE=DATE:20251222
DTEND;VALUE=DATE:20260101
DTSTAMP:20260420T094944
CREATED:20250618T185342Z
LAST-MODIFIED:20250618T185342Z
UID:15576-1766361600-1767225599@villamaria.org
SUMMARY:Christmas Holidays
DESCRIPTION:
URL:https://villamaria.org/event/christmas-holidays-3/
CATEGORIES:Early Learning Center,School Calendar
END:VEVENT
BEGIN:VEVENT
DTSTART;VALUE=DATE:20260101
DTEND;VALUE=DATE:20260105
DTSTAMP:20260420T094944
CREATED:20250618T185442Z
LAST-MODIFIED:20250618T185455Z
UID:15577-1767225600-1767571199@villamaria.org
SUMMARY:School Holidays
DESCRIPTION:
URL:https://villamaria.org/event/school-holidays-2/
CATEGORIES:Early Learning Center,School Calendar
END:VEVENT
BEGIN:VEVENT
DTSTART;VALUE=DATE:20260105
DTEND;VALUE=DATE:20260106
DTSTAMP:20260420T094944
CREATED:20250618T185520Z
LAST-MODIFIED:20250618T185520Z
UID:15578-1767571200-1767657599@villamaria.org
SUMMARY:Classes resume
DESCRIPTION:
URL:https://villamaria.org/event/classes-resume-6/
CATEGORIES:Early Learning Center,School Calendar
END:VEVENT
BEGIN:VEVENT
DTSTART;VALUE=DATE:20260109
DTEND;VALUE=DATE:20260110
DTSTAMP:20260420T094944
CREATED:20250618T185552Z
LAST-MODIFIED:20250618T185552Z
UID:15579-1767916800-1768003199@villamaria.org
SUMMARY:School Liturgy - 9:15 AM
DESCRIPTION:
URL:https://villamaria.org/event/school-liturgy-915-am-7/
CATEGORIES:Early Learning Center,School Calendar
END:VEVENT
BEGIN:VEVENT
DTSTART;VALUE=DATE:20260109
DTEND;VALUE=DATE:20260110
DTSTAMP:20260420T094944
CREATED:20250618T185643Z
LAST-MODIFIED:20250618T185720Z
UID:15580-1767916800-1768003199@villamaria.org
SUMMARY:Parent Guild Event: Family Bingo
DESCRIPTION:
URL:https://villamaria.org/event/parent-guild-event-family-bingo-2/
CATEGORIES:Early Learning Center,P.G. Social Calendar,School Calendar
END:VEVENT
BEGIN:VEVENT
DTSTART;VALUE=DATE:20260119
DTEND;VALUE=DATE:20260120
DTSTAMP:20260420T094944
CREATED:20250618T185749Z
LAST-MODIFIED:20250618T185813Z
UID:15581-1768780800-1768867199@villamaria.org
SUMMARY:School Holiday – Martin Luther King Day
DESCRIPTION:
URL:https://villamaria.org/event/school-holiday-martin-luther-king-day-2/
CATEGORIES:Early Learning Center,School Calendar
END:VEVENT
BEGIN:VEVENT
DTSTART;VALUE=DATE:20260125
DTEND;VALUE=DATE:20260126
DTSTAMP:20260420T094944
CREATED:20250618T185908Z
LAST-MODIFIED:20250618T185908Z
UID:15582-1769299200-1769385599@villamaria.org
SUMMARY:Charism Mass - 11:00 AM - Chapel - followed by reception in GYM
DESCRIPTION:
URL:https://villamaria.org/event/charism-mass-1100-am-chapel-followed-by-reception-in-gym/
CATEGORIES:Early Learning Center,School Calendar
END:VEVENT
BEGIN:VEVENT
DTSTART;VALUE=DATE:20260125
DTEND;VALUE=DATE:20260201
DTSTAMP:20260420T094944
CREATED:20250618T185947Z
LAST-MODIFIED:20250618T185947Z
UID:15583-1769299200-1769903999@villamaria.org
SUMMARY:Catholic Schools Week
DESCRIPTION:
URL:https://villamaria.org/event/catholic-schools-week-4/
CATEGORIES:Early Learning Center,School Calendar
END:VEVENT
BEGIN:VEVENT
DTSTART;VALUE=DATE:20260128
DTEND;VALUE=DATE:20260129
DTSTAMP:20260420T094944
CREATED:20250618T190024Z
LAST-MODIFIED:20250618T190051Z
UID:15584-1769558400-1769644799@villamaria.org
SUMMARY:Admissions Event - Open House 9:00 – 10:30 AM
DESCRIPTION:
URL:https://villamaria.org/event/admissions-event-open-house-900-1030-am-3/
CATEGORIES:Admissions Events,Early Learning Center,School Calendar
END:VEVENT
BEGIN:VEVENT
DTSTART;VALUE=DATE:20260130
DTEND;VALUE=DATE:20260131
DTSTAMP:20260420T094944
CREATED:20250618T190143Z
LAST-MODIFIED:20250618T190143Z
UID:15585-1769731200-1769817599@villamaria.org
SUMMARY:Professional Development Day #2 at St. Aloysius Academy – No School
DESCRIPTION:
URL:https://villamaria.org/event/professional-development-day-2-at-st-aloysius-academy-no-school/
CATEGORIES:Early Learning Center,School Calendar
END:VEVENT
END:VCALENDAR